BEGIN:VCALENDAR
VERSION:2.0
PRODID:-//StrefaMMA.pl - Portal sportów walki - ECPv5.16.3.1//NONSGML v1.0//EN
CALSCALE:GREGORIAN
METHOD:PUBLISH
X-WR-CALNAME:StrefaMMA.pl - Portal sportów walki
X-ORIGINAL-URL:https://strefamma.pl
X-WR-CALDESC:Wydarzenia dla StrefaMMA.pl - Portal sportów walki
REFRESH-INTERVAL;VALUE=DURATION:PT1H
X-Robots-Tag:noindex
X-PUBLISHED-TTL:PT1H
BEGIN:VTIMEZONE
TZID:Europe/Warsaw
BEGIN:DAYLIGHT
TZOFFSETFROM:+0100
TZOFFSETTO:+0200
TZNAME:CEST
DTSTART:20220327T010000
END:DAYLIGHT
BEGIN:STANDARD
TZOFFSETFROM:+0200
TZOFFSETTO:+0100
TZNAME:CET
DTSTART:20221030T010000
END:STANDARD
END:VTIMEZONE
BEGIN:VEVENT
DTSTART;TZID=Europe/Warsaw:20220123T010000
DTEND;TZID=Europe/Warsaw:20220123T063000
DTSTAMP:20260423T192553
CREATED:20211221T151438Z
LAST-MODIFIED:20220123T000708Z
UID:22783-1642899600-1642919400@strefamma.pl
SUMMARY:UFC 270: Ngannou vs. Gane
DESCRIPTION:Już 23 stycznia odbędzie się pierwsza numerowana gala w 2022 roku spod szyldu Ultimate Fighting Championship. Będzie to UFC 270. W walce wieczoru mistrz wagi ciężkiej Francis Ngannou zmierzy się z Cirylem Ganem. Ponadto w walce wieczoru zobaczymy zakończenie trylogii na szczycie wagi muszej pomiędzy Brandonem Moreno a Deivesone Figueiredo. Transmisja UFC Vegas 46 do obejrzenia będzie za darmo w STS TV dla wszystkich aktywnych użytkowników! \nCała gala od transmitowana będzie w STS TV!\nAby obejrzeć\, wystarczy otworzyć konto Tutaj. Galę UFC Vegas 45 wraz z walką Mateusza Gamrota obejrzysz w STS TV! Wydarzenie będzie dostępne dla zarejestrowanych użytkowników serwisu bukmacherskiego firmy STS. \nTransmisja:\n\nGala będzie dostępna na żywo dla użytkowników serwisu STS (wystarczy się zarejestrować).\n\n  \n\n\n  Szczegóły transmisji: \nData i godzina:\n\n\n\n\nKarta przedwstępna – 23 stycznia 01:00\nKarta wstępna – 23 stycznia 02:00\nKarta główna – 23 stycznia 04:00\n\n\n\n\nWalka wieczoru: \n\n265 lb: Francis Ngannou (16-3) vs. Ciryl Gane (10-0) – o pas mistrzowski\n\nKarta główna: \n\n125 lb: Brandon Moreno (14-5) vs. Deiveson Figueiredo (20-2-1) – o pas mistrzowski\n170 lb: Michel Pereira (26-11) vs. Andre Fialho (14-3)\n135 lb: Cody Stamann (19-4-1) vs. Said Nurmagomedov (14-2)\n\nKarta wstępna: \n\n185 lb: Rodolfo Vieira (8-1) vs. Wellington Turman (17-5)\n135 lb: Raoni Barcelos (16-2) vs. Victor Henry (21-5)\n145 lb: Ilia Topuria (11-0) vs. Charles Jourdain (12-4-1)\n170 lb: Pete Rodriguez (4-0) vs. Jack Della Maddalena (10-2)\n\nKarta przedwstępna: \n\n135 lb: Tony Gravely (21-7) vs. Saimon Oliveira (18-3)\n170 lb: Michael Morales (12-0) vs. Trevin Giles (14-3)\n115 lb: Vanessa Demopoulos (6-4) vs. Silvana Gomez Juarez (10-3)\n155 lb: Matt Frevola (8-3-1) vs. Genaro Valdez (10-0)\n125 lb: Jasmine Jasudavicius (6-1) vs. Kay Hansen (7-4)
URL:https://strefamma.pl/event/ufc-270-ngannou-vs-gane/
LOCATION:Anaheim\, Kalifornia
ATTACH;FMTTYPE=image/png:https://strefamma.pl/wp-content/uploads/2021/12/aa.png
END:VEVENT
END:VCALENDAR