BEGIN:VCALENDAR
VERSION:2.0
PRODID:-//StrefaMMA.pl - Portal sportów walki - ECPv5.16.3.1//NONSGML v1.0//EN
CALSCALE:GREGORIAN
METHOD:PUBLISH
X-ORIGINAL-URL:https://strefamma.pl
X-WR-CALDESC:Wydarzenia dla StrefaMMA.pl - Portal sportów walki
REFRESH-INTERVAL;VALUE=DURATION:PT1H
X-Robots-Tag:noindex
X-PUBLISHED-TTL:PT1H
BEGIN:VTIMEZONE
TZID:Europe/Warsaw
BEGIN:DAYLIGHT
TZOFFSETFROM:+0100
TZOFFSETTO:+0200
TZNAME:CEST
DTSTART:20220327T010000
END:DAYLIGHT
BEGIN:STANDARD
TZOFFSETFROM:+0200
TZOFFSETTO:+0100
TZNAME:CET
DTSTART:20221030T010000
END:STANDARD
END:VTIMEZONE
BEGIN:VEVENT
DTSTART;TZID=Europe/Warsaw:20220115T190000
DTEND;TZID=Europe/Warsaw:20220115T233000
DTSTAMP:20260423T192628
CREATED:20211223T225817Z
LAST-MODIFIED:20220115T165341Z
UID:23232-1642273200-1642289400@strefamma.pl
SUMMARY:KSW 66: Ziółkowski vs. Mańkowski
DESCRIPTION:Już 15 stycznia organizacja powraca do Szczecina z galą o numerze 66. W walce wieczoru Marian Ziółkowski stanie do obrony pasa w wadze lekkiej. Jego przeciwnikiem będzie Borys Mańkowski. W co-main evencie Tomasz Narkun zawalczy z Ibragimem Chuzhigaevem. Po ponad roku do klatki KSW powróci weterana Michał Materla. \nSzczegóły KSW 66: \nData: 15.01.2022\nGodzina: od 19:00\nLokalizacja: Szczecin\nTransmisja: ViaPlay\nLiczba walk: 10\nWalka wieczoru: Marian Ziółkowski vs. Borys Mańkowski \nWalka wieczoru:\n70\,3 kg/155 lb: Marian Ziółkowski (23-8-1 1NC\, 6 KO\, 13 Sub) vs Borys Mańkowski (22-8-1\, 3 KO\, 8 Sub) – o pas mistrzowski \nPozostałe:\n93 kg/205 lb: Tomasz Narkun (18-4\, 3 KO\, 14 Sub) vs Ibragim Chuzhigaev (15-5\, 8 KO\, 2 Sub) – o pas mistrzowski\n83\,9 kg/185 lb: Michał Materla (30-8\, 10 KO\, 13 Sub) vs Jason Radcliffe (17-8\, 11 KO\, 4 Sub)\n77\,1 kg/170 lb: Robert Maciejowski (5-3-1) vs Krystian Kaszubowski (9-2\, 2 KO\, 1 Sub)\n70\,3 kg/155 lb: Sebastian Rajewski (11-6\, 4 KO) vs Niklas Bäckström (11-3\,1NC\, 4 KO\, 4 Sub)\n93 kg/205 lb: Wojciech Janusz (10-7\, 3 KO\, 4 Sub) vs Damian Skarżyński (5-3)\n70\,3 kg/155 lb: Łukasz Rajewski (11-6 1NC\, 5 KO\, 2 Sub) vs Donovan Desmae (14-8\, 7 KO\, 3 Sub)\nCW 73 kg: Gracjan Szadziński (8-4) vs. Francesco Moricca (9-5-1)\n77\,1 kg/170 lb: Kacper Koziorzębski (7-4\, 4 KO) vs Hubert Szymajda (9-4\, 1 KO\, 5 Sub)\n61\,2 kg/135 lb: Patryk Surdyn (5-2\, 1 KO\, 2 Sub) vs David Martinik (5-3\, 2 KO\, 2 Sub) \n 
URL:https://strefamma.pl/event/ksw-66-ziolkowski-vs-mankowski/
LOCATION:Szczecin
ATTACH;FMTTYPE=image/jpeg:https://strefamma.pl/wp-content/uploads/2021/12/ksw.jpg
END:VEVENT
BEGIN:VEVENT
DTSTART;TZID=Europe/Warsaw:20220115T220000
DTEND;TZID=Europe/Warsaw:20220116T220000
DTSTAMP:20260423T192628
CREATED:20211220T230255Z
LAST-MODIFIED:20220114T233110Z
UID:22768-1642284000-1642370400@strefamma.pl
SUMMARY:UFC Vegas 46: Kattar vs. Chikadze
DESCRIPTION:Już 15 stycznia odbędzie się pierwsza gala Ultimate Fighting Championship w 2022 roku. Będzie to UFC Vegas 46. W walce wieczoru Calvin Kattar zmierzy się z utalentowanym stójkowiczem Gigą Chikadze. Transmisja UFC Vegas 46 do obejrzenia będzie za darmo w STS TV dla wszystkich aktywnych użytkowników! \nCała gala od transmitowana będzie w STS TV!\nAby obejrzeć\, wystarczy otworzyć konto Tutaj. \n\nGalę UFC Vegas 46 obejrzysz w STS TV! Wydarzenie będzie dostępne dla zarejestrowanych użytkowników serwisu bukmacherskiego firmy STS. \n\n\n\nTransmisja:\n\n\n\n\nGala będzie dostępna na żywo dla użytkowników serwisu STS (wystarczy się zarejestrować).\n\n\n\n\n\n\nSzczegóły transmisji: \nData i godzina:\n\n\n\n\nKarta wstępna – 15 stycznia 22:00\n\n\n\n\n\nKarta główna – 16 stycznia 01:00\n\nSzczegóły UFC Vegas 46: \nData: 15.01.2022Godzina: od 22:00Lokalizacja: Las VegasTransmisja: UFC Fight Pass\, Polsat Sport Extra\, STS TVLiczba walk: 10Walka wieczoru: Calvin Kattar vs. Giga Chikadze \nKarta walk UFC Vegas 46\nWalka wieczoru:145 lb: Calvin Kattar (22-5) vs. Giga Chikadze (14-2) \nKarta główna:265 lb: Chase Sherman (15-8) vs. Jake Collier (12-6)125 lb: Brandon Royval (12-6) vs. Rogerio Bontorin (17-3)125 lb: Katlyn Chookagian (16-4) vs. Jennifer Maia (19-7-1)155 lb: Dakota Bush (8-3) vs. Viacheslav Borshchev (5-1)145 lb: Joanderson Brito (12-2-1) vs. Bill Algeo (14-6) \nKarta wstępna:185 lb: Jamie Pickett (12-6) vs. Joseph Holmes (7-1)170 lb: Ramiz Brahimaj (9-3) vs. Court McGee (20-10)135 lb: Brian Kelleher (23-12) vs. Kevin Croom (21-13)145 lb: TJ Brown (15-8) vs. Charles Rosa (14-6) \n 
URL:https://strefamma.pl/event/ufc-vegas-46-cattar-vs-chikadze/
LOCATION:Las Vegas\, UFC Apex
ATTACH;FMTTYPE=image/jpeg:https://strefamma.pl/wp-content/uploads/2021/12/ufc-.jpeg
END:VEVENT
END:VCALENDAR