BEGIN:VCALENDAR
VERSION:2.0
PRODID:-//StrefaMMA.pl - Portal sportów walki - ECPv5.16.3.1//NONSGML v1.0//EN
CALSCALE:GREGORIAN
METHOD:PUBLISH
X-ORIGINAL-URL:https://strefamma.pl
X-WR-CALDESC:Wydarzenia dla StrefaMMA.pl - Portal sportów walki
REFRESH-INTERVAL;VALUE=DURATION:PT1H
X-Robots-Tag:noindex
X-PUBLISHED-TTL:PT1H
BEGIN:VTIMEZONE
TZID:Europe/Warsaw
BEGIN:DAYLIGHT
TZOFFSETFROM:+0100
TZOFFSETTO:+0200
TZNAME:CEST
DTSTART:20220327T010000
END:DAYLIGHT
BEGIN:STANDARD
TZOFFSETFROM:+0200
TZOFFSETTO:+0100
TZNAME:CET
DTSTART:20221030T010000
END:STANDARD
END:VTIMEZONE
BEGIN:VEVENT
DTSTART;TZID=Europe/Warsaw:20220110T080000
DTEND;TZID=Europe/Warsaw:20220110T170000
DTSTAMP:20260423T192632
CREATED:20231113T130239Z
LAST-MODIFIED:20231113T130239Z
UID:25393-1641801600-1641834000@strefamma.pl
SUMMARY:Bellator 273: Bader vs. Moldavsky
DESCRIPTION:Już pod koniec stycznia odbędzie się gala Bellator 273. W walce wieczoru zobaczymy unifikacyjne starcie o pas mistrzowski wagi ciężkiej pomiędzy Ryanem Baderem a Valentinem Moldavskym. \nWalka wieczoru:\n\n265 lbs.: Champion Ryan Bader (28-7\, 1 NC) vs. Interim champion Valentin Moldavsky (11-1) \nKarta główna:\n135 lbs.: Darrion Caldwell (14-5) vs. Enrique Barzola (16-5-2)\n170 lbs.: Sabah Homasi (15-10) vs. Jaleel Willis (15-3)\n145 lbs.: Henry Corrales (19-6) vs Aiden Lee (10-5) \nKarta wstępna:\n155 lbs.: Benson Henderson (28-11) vs. Islam Mamedov (20-1)\n185 lbs.: Romero Cotton (5-0) vs. Dalton Rosta (5-0)\n155 lbs.: Chris Gonzalez (6-1) vs. Saad Awad (24-13-1)\n205 lbs.: Ben Parrish (5-1) vs. Sullivan Cauly (2-0)
URL:https://strefamma.pl/event/bellator-273-bader-vs-moldavsky/
LOCATION:USA
END:VEVENT
END:VCALENDAR