BEGIN:VCALENDAR
VERSION:2.0
PRODID:-//StrefaMMA.pl - Portal sportów walki - ECPv5.16.3.1//NONSGML v1.0//EN
CALSCALE:GREGORIAN
METHOD:PUBLISH
X-WR-CALNAME:StrefaMMA.pl - Portal sportów walki
X-ORIGINAL-URL:https://strefamma.pl
X-WR-CALDESC:Wydarzenia dla StrefaMMA.pl - Portal sportów walki
REFRESH-INTERVAL;VALUE=DURATION:PT1H
X-Robots-Tag:noindex
X-PUBLISHED-TTL:PT1H
BEGIN:VTIMEZONE
TZID:Europe/Warsaw
BEGIN:DAYLIGHT
TZOFFSETFROM:+0100
TZOFFSETTO:+0200
TZNAME:CEST
DTSTART:20210328T010000
END:DAYLIGHT
BEGIN:STANDARD
TZOFFSETFROM:+0200
TZOFFSETTO:+0100
TZNAME:CET
DTSTART:20211031T010000
END:STANDARD
END:VTIMEZONE
BEGIN:VEVENT
DTSTART;TZID=Europe/Warsaw:20211112T190000
DTEND;TZID=Europe/Warsaw:20211113T020000
DTSTAMP:20260423T223214
CREATED:20211109T120755Z
LAST-MODIFIED:20231113T125850Z
UID:16549-1636743600-1636768800@strefamma.pl
SUMMARY:Bellator 271: Cyborg vs. Kavanagh
DESCRIPTION:W najbliższy weekend odbędzie się Bellator 271\, gdzie w walce wieczoru Cris Cyborg zmierzy się z Sinead Kavangh. W walce wieczoru Tyrell Fortune zmierzy się z Lintonem Vasellem. \nWalka wieczoru:\n145 lb: Cris Cyborg (24-2-0) vs. Sinead Kavanagh (7-4-0) \nKarta główna:\n265 lb: Tyrell Fortune (11-1-0) vs. Linton Vassell (21-8-0)\n145 lb: Aaron Pico (8-3-0) vs. Justin Gonzales (12-0-0)\n145 lb.: Arlene Blencowe (14-8-0) vs. Pam Sorenson (9-3-0)\n265 lb: Steve Mowry (9-0-0) vs. Rakim Cleveland (22-13-1) \nKarta wstępna:\n125 lb: Bruna Ellen (5-3-0) vs. Desiree Yanez (5-3-0)\n170 lb: Roman Faraldo (5-0-0) vs. Robert Turnquest (11-7-0)\n145 lb: Cody Law (4-0-0) vs. Colton Hamm (4-3-0)\n125 lb: Valerie Loureda (3-1-0) vs. Taylor Turner (5-7-0)\n185 lb: Jordan Newman (3-0-0) vs. Shane O’Shea (4-2-0)\n170 lb: Mahmoud Fawzy Sebie (2-0-0) vs. Ethan Hughes (2-0-0)
URL:https://strefamma.pl/event/bellator-271-cyborg-vs-kavanagh/
LOCATION:USA
ATTACH;FMTTYPE=image/jpeg:https://strefamma.pl/wp-content/uploads/2021/11/FBDGHbJVQAAofPC.jpg-large.jpg
END:VEVENT
BEGIN:VEVENT
DTSTART;TZID=Europe/Warsaw:20211113T190000
DTEND;TZID=Europe/Warsaw:20211114T020000
DTSTAMP:20260423T223214
CREATED:20211105T121453Z
LAST-MODIFIED:20231113T125905Z
UID:15276-1636830000-1636855200@strefamma.pl
SUMMARY:UFC Vegas 42: Holloway vs. Rodriguez
DESCRIPTION:Już 13 listopada odbędzie się UFC Vegas 42. W walce wieczoru były mistrz kategorii piórkowej zmierzy się z niezwykle widowiskowym Yairem Rodriguezem. W co-main evencie Da Un Jung zmierzy się z Kennedym Nzechukwu. Transmisja UFC Vegas 42 do obejrzenia będzie za darmo w STS TV dla wszystkich aktywnych użytkowników! \nCała gala od transmitowana będzie w STS TV!\nAby obejrzeć\, wystarczy otworzyć konto Tutaj.   \n\n\n\n\n\nWalka wieczoru:\n145 lb: Max Holloway vs. Yair Rodriguez \nPozostałe:\n205 lb: Da Un Jung vs. Kennedy Nzechukwu125 lb: Andrea Lee vs. Cynthia Calvillo265 lb: Marcos Rogerio de Lima vs. Ben Rothwell205 lb: Philipe Lins vs. Ovince Saint Preux145 lb: Lando Vannata vs. TBA135 lb: Julio Arce vs. Song Yadong145 lb: Leah Letson vs. Felicia Spencer205 lb: Jailton Almeida vs. Danilo Marques145 lb: Collin Anglin vs. Sean Woodson155 lb: Joel Alvarez vs. Thiago Moises185 lb: Kyle Daukaus vs. TBA155 lb: Rafael Alves vs. Marc Diakiese
URL:https://strefamma.pl/event/ufc-vegas-42-holloway-vs-rodriguez/
LOCATION:Las Vegas\, UFC Apex
ATTACH;FMTTYPE=image/jpeg:https://strefamma.pl/wp-content/uploads/2021/11/a.jpeg
END:VEVENT
END:VCALENDAR