BEGIN:VCALENDAR
VERSION:2.0
PRODID:-//StrefaMMA.pl - Portal sportów walki - ECPv5.16.3.1//NONSGML v1.0//EN
CALSCALE:GREGORIAN
METHOD:PUBLISH
X-WR-CALNAME:StrefaMMA.pl - Portal sportów walki
X-ORIGINAL-URL:https://strefamma.pl
X-WR-CALDESC:Wydarzenia dla StrefaMMA.pl - Portal sportów walki
REFRESH-INTERVAL;VALUE=DURATION:PT1H
X-Robots-Tag:noindex
X-PUBLISHED-TTL:PT1H
BEGIN:VTIMEZONE
TZID:Europe/Warsaw
BEGIN:DAYLIGHT
TZOFFSETFROM:+0100
TZOFFSETTO:+0200
TZNAME:CEST
DTSTART:20210328T010000
END:DAYLIGHT
BEGIN:STANDARD
TZOFFSETFROM:+0200
TZOFFSETTO:+0100
TZNAME:CET
DTSTART:20211031T010000
END:STANDARD
END:VTIMEZONE
BEGIN:VEVENT
DTSTART;TZID=Europe/Warsaw:20211106T235500
DTEND;TZID=Europe/Warsaw:20211107T063000
DTSTAMP:20260423T223216
CREATED:20211006T115627Z
LAST-MODIFIED:20231113T125805Z
UID:12954-1636242900-1636266600@strefamma.pl
SUMMARY:UFC 268: Usman vs. Covington 2
DESCRIPTION:Na początku listopada odbędzie się UFC 268. W walce wieczoru zobaczymy rewanżowe starcie pomiędzy Kamaru Usmanem a Colbym Covingtonem. Ponadto w co- main evencie Rose Namajunas po raz w karierze zmierzy się z Weili Zhang. Transmisja UFC 268 do obejrzenia będzie za darmo w STS TV \nCała gala od godziny 00:00 transmitowana będzie w STS TV!\nAby obejrzeć\, wystarczy otworzyć konto Tutaj. \n\n\n\n\nWalka wieczoru:\n170 lb: Kamaru Usman (19-1-0) vs. Colby Covington (16-2-0) \nKarta główna:\n115 lb: Rose Namajunas (10-4-0) vs. Weili Zhang (21-2-0)155 lb: Justin Gaethje (22-3-0) vs. Michael Chandler (22-6-0)135 lb: Frankie Edgar (24-9-1) vs. Marlon Vera (19-7-1)145 lb: Shane Burgos (13-3-0) vs. Billy Quarantillo (16-3-0) \nKarta wstępna:\n185 lb: Edmen Shahbazyan (11-2-0) vs. Nassourdine Imavov (10-3-0)155 lb: Al Iaquinta (14-6-1) vs. Bobby Green (27-12-1)185 lb: Andreas Michailidis (13-4-0) vs. Alex Pereira (3-1-0)170 lb: Jordan Williams (9-5-0) vs. Ian Garry (7-0-0)125 lb: C.J. Vergara (9-2-1) vs. Ode Osbourne (9-4-0)265 lb: Gian Villante (17-13-0) vs. Chris Barnett (21-7-0)205 lb.: Aleksa Camur (6-2-0) vs. John Allan (13-6-0)185 lb: Phil Hawes (11-2-0) vs. Chris Curtis (26-8-0)
URL:https://strefamma.pl/event/ufc-268-usman-vs-covington-2/
LOCATION:Madison Square Garden in New York City\, 46 Pennsylvania Plaza (8th Avenue & 33rd Street)\, Manhattan\, New York\, United States
ATTACH;FMTTYPE=image/jpeg:https://strefamma.pl/wp-content/uploads/2021/10/a-4.jpg
END:VEVENT
END:VCALENDAR