BEGIN:VCALENDAR
VERSION:2.0
PRODID:-//StrefaMMA.pl - Portal sportów walki - ECPv5.16.3.1//NONSGML v1.0//EN
CALSCALE:GREGORIAN
METHOD:PUBLISH
X-WR-CALNAME:StrefaMMA.pl - Portal sportów walki
X-ORIGINAL-URL:https://strefamma.pl
X-WR-CALDESC:Wydarzenia dla StrefaMMA.pl - Portal sportów walki
REFRESH-INTERVAL;VALUE=DURATION:PT1H
X-Robots-Tag:noindex
X-PUBLISHED-TTL:PT1H
BEGIN:VTIMEZONE
TZID:Europe/Warsaw
BEGIN:DAYLIGHT
TZOFFSETFROM:+0100
TZOFFSETTO:+0200
TZNAME:CEST
DTSTART:20210328T010000
END:DAYLIGHT
BEGIN:STANDARD
TZOFFSETFROM:+0200
TZOFFSETTO:+0100
TZNAME:CET
DTSTART:20211031T010000
END:STANDARD
END:VTIMEZONE
BEGIN:VEVENT
DTSTART;TZID=Europe/Warsaw:20211023T190000
DTEND;TZID=Europe/Warsaw:20211024T020000
DTSTAMP:20260424T000042
CREATED:20211006T105122Z
LAST-MODIFIED:20231113T125727Z
UID:12937-1635015600-1635040800@strefamma.pl
SUMMARY:UFC Vegas 41: Costa vs Vettori
DESCRIPTION:W drugiej połowie października odbędzie się UFC Vegas 41. W walce wieczoru Paulo Costa zawalczy z Marvinem Vettorim. Transmisja UFC 267 do obejrzenia będzie za darmo w STS TV dla wszystkich aktywnych użytkowników! Poza walką wieczoru\, w której wystąpią Paulo Costa i Marvin Vettori to warto zwrócić uwagę na starcie Granta Dawsona z Rickym Glenem i Alexa Caceresa z Seung Woo Choi. \nCała gala od godziny 19:00 transmitowana będzie w STS TV!\nAby obejrzeć\, wystarczy otworzyć konto Tutaj.   \n\n\n\n\n\n  \nWalka wieczoru:185 lb: Paulo Costa (13-1) vs. Marvin Vettori (17-4-1) \nKarta główna:155 lb: Grant Dawson (17-1) vs. Ricky Glenn (22-6-1)135 lb: Jessica-Rose Clark (10-6) vs. Joselyne Edwards (10-3)145 lb: Alex Caceres (18-12) vs. Seung Woo Choi (10-3)170 lb: Dwight Grant (11-3) vs. Francisco Trinaldo (26-8)205 lb: Nick Negumereanu (10-1) vs. Ike Villanueva (18-12) \nKarta wstępna:185 lb: Jun Yong Park (13-4) vs. Gregory Rodrigues (10-3)155 lb: Mason Jones (10-1) vs. David Onama (8-0)115 lb: Tabatha Ricci (5-1) vs. Maria Oliveira (12-4)185 lb: Laureano Staropoli (9-4) vs. Jamie Pickett (11-6)155 lb: Khama Worthy (16-8) vs. Jai Herbert (10-3)125 lb: Jeff Molina (9-2) vs. Daniel Lacerda (11-1)115 lb: Livinha Souza (14-3) vs. Randa Markos (10-11-1)
URL:https://strefamma.pl/event/ufc-vegas-41-costa-vs-vettori/
LOCATION:USA
ATTACH;FMTTYPE=image/jpeg:https://strefamma.pl/wp-content/uploads/2021/10/a-2.jpg
END:VEVENT
END:VCALENDAR