BEGIN:VCALENDAR
VERSION:2.0
PRODID:-//StrefaMMA.pl - Portal sportów walki - ECPv5.16.3.1//NONSGML v1.0//EN
CALSCALE:GREGORIAN
METHOD:PUBLISH
X-WR-CALNAME:StrefaMMA.pl - Portal sportów walki
X-ORIGINAL-URL:https://strefamma.pl
X-WR-CALDESC:Wydarzenia dla StrefaMMA.pl - Portal sportów walki
REFRESH-INTERVAL;VALUE=DURATION:PT1H
X-Robots-Tag:noindex
X-PUBLISHED-TTL:PT1H
BEGIN:VTIMEZONE
TZID:Europe/Warsaw
BEGIN:DAYLIGHT
TZOFFSETFROM:+0100
TZOFFSETTO:+0200
TZNAME:CEST
DTSTART:20210328T010000
END:DAYLIGHT
BEGIN:STANDARD
TZOFFSETFROM:+0200
TZOFFSETTO:+0100
TZNAME:CET
DTSTART:20211031T010000
END:STANDARD
END:VTIMEZONE
BEGIN:VEVENT
DTSTART;TZID=Europe/Warsaw:20211016T190000
DTEND;TZID=Europe/Warsaw:20211016T233000
DTSTAMP:20260424T000043
CREATED:20211006T093830Z
LAST-MODIFIED:20211015T194315Z
UID:12918-1634410800-1634427000@strefamma.pl
SUMMARY:FEN 36: Rębecki vs. Akhmedov
DESCRIPTION:Już w połowie października organizacja Fight Exclusive Night powróci do Szczecina z galą o numerze 36. W walce wieczoru mistrz wagi lekkiej Mateusz Rębecki zawalczy z Aigunm Akhmedovem. Ponadto Marcin Wójcik w swojej pierwszej obronie mistrzowskiego pasa w dywizji półciężkiej zmierzy się z Ederem De Souzą. \nWalka wieczoru:\n70.3 kg: Mateusz Rębecki (13-1) vs. Felipe Maia (10-5) – o pas mistrzowski \nPozostałe:\n93 kg: Marcin Wójcik (14-7) vs. Eder de Souza (18-7) – o pas mistrzowski\n93 kg: Kamil Wojciechowski (3-0) vs. Łukasz Klinger (9-5)\n93 kg: Michał Piwowarski (5-2) vs. Bartosz Szewczyk (2-0)\n70.3 kg: Wojciech Kawa (2-1) vs. Denis Zarówny (1-0)\n70.3 kg: Krzysztof Dobrzyński (6-4-1) vs. Maciej Kaliciński (4-3)\n83.9 kg: Krystian Bielski (7-3) vs. Piotr Walawski (9-7-1)\n77.1 kg: Samuel Vogt (2-2) vs. Maciej Pacuła (2-0)\nCW 74 kg Semi-Pro: Piotr Terlecki vs. Patryk Buczkowski\n65.8 kg Semi-Pro: Dominik Mazur vs. Maciej Łapka
URL:https://strefamma.pl/event/12918/
LOCATION:Polska\, Polska
ATTACH;FMTTYPE=image/jpeg:https://strefamma.pl/wp-content/uploads/2021/10/ff.jpg
END:VEVENT
BEGIN:VEVENT
DTSTART;TZID=Europe/Warsaw:20211016T220000
DTEND;TZID=Europe/Warsaw:20211017T060000
DTSTAMP:20260424T000043
CREATED:20211006T101039Z
LAST-MODIFIED:20231113T125654Z
UID:12926-1634421600-1634450400@strefamma.pl
SUMMARY:UFC Vegas 40: Holm vs. Dumont
DESCRIPTION:16 października odbędzie się UFC Vegas 40\, gdzie w walce wieczoru Aspen Ladd zmierzy się z Normą Dumont. Natomiast w co-main evencie weteran Andrei Arlovski zawalczy z Carlosem Felipe. \nWalka wieczoru:\n135 lb: Aspen Ladd vs. Norma Dumont \nPozostałe:\n265 lb: Andrei Arlovski vs. Carlos Felipe\n205 lb: Kennedy Nzechukwu vs. Da Un Jung\n145 lb: Ludovit Klein vs. Nate Landwehr\n125 lb: Luana Carolina vs. Sijara Eubanks\n115 lb: Ariane Carnelossi vs. Istela Nunes\n185 lb: Julian Marquez vs. Jordan Wright\n185 lb: Andrew Sanchez vs. Bruno Silva\n135 lb: Daniel Santos vs. Timur Valiev\n125 lb: Manon Fiorot vs. Mayra Bueno Silva\n170 lb: Ramazan Emeev vs. Danny Roberts
URL:https://strefamma.pl/event/ufc-vegas-40-holm-vs-dumont/
LOCATION:USA
ATTACH;FMTTYPE=image/jpeg:https://strefamma.pl/wp-content/uploads/2021/10/a-5.jpg
END:VEVENT
BEGIN:VEVENT
DTSTART;TZID=Europe/Warsaw:20211016T230000
DTEND;TZID=Europe/Warsaw:20211017T040000
DTSTAMP:20260424T000043
CREATED:20211008T104218Z
LAST-MODIFIED:20231113T125712Z
UID:13051-1634425200-1634443200@strefamma.pl
SUMMARY:Bellator 268: Nemkov vs. Anglickas
DESCRIPTION:W połowie października odbędzie się Bellator 268\, gdzie odbędą się dwie półfinałowe walki turnieju w wadze półciężkiej. W co-main evencie Ryan Bader zmierzy się z z Coreyem Andersonem. Natomiast w walce wieczoru Vadim Nemkov skrzyżuje rękawice z Juliusem Anglickasem. \nWalka wieczoru:\n205 lb: Vadim Nemkov (14-2) vs. Julius Anglickas (10-1) – o pas mistrzowski \nKarta główna:\n205 lb: Ryan Bader (28-6\, 1 NC) vs. Corey Anderson (15-5)\n155 lb: Benson Henderson (28-10) vs. Brent Primus (10-2)\n145 lb: Henry Corrales (18-6) vs. Vladyslav Parubchenko (16-2) \nKarta wstępna:\n205 lb: Dovletdzhan Yagshimuradovs (18-6-1) vs. Karl Albrektsson (12-3)\n135 lb: Erik Perez (20-8) vs. Brett Johns (17-3)\n205 lb: Sullivan Cauley (1-0) vs. Deon Clash (1-0)\n155 lb: Nick Browne (11-1) vs. Bobby Lee (12-6)\n185 lb: Javier Torres (11-5\, 1 NC) vs. Gregory Milliard (12-6)\n125 lb: Sumiko Inaba (2-0) vs. Randi Field (2-0)\n155 lb: Lance Gibson Jr. (4-0) vs. Raymond Pina (9-4)\n125 lb: Maria Henderson (1-0) vs. Collette Santiago (0-1)
URL:https://strefamma.pl/event/bellator-268-nemkov-vs-anglickas/
LOCATION:USA
ATTACH;FMTTYPE=image/png:https://strefamma.pl/wp-content/uploads/2021/10/a-1.png
END:VEVENT
END:VCALENDAR