BEGIN:VCALENDAR
VERSION:2.0
PRODID:-//StrefaMMA.pl - Portal sportów walki - ECPv5.16.3.1//NONSGML v1.0//EN
CALSCALE:GREGORIAN
METHOD:PUBLISH
X-ORIGINAL-URL:https://strefamma.pl
X-WR-CALDESC:Wydarzenia dla StrefaMMA.pl - Portal sportów walki
REFRESH-INTERVAL;VALUE=DURATION:PT1H
X-Robots-Tag:noindex
X-PUBLISHED-TTL:PT1H
BEGIN:VTIMEZONE
TZID:Europe/Warsaw
BEGIN:DAYLIGHT
TZOFFSETFROM:+0100
TZOFFSETTO:+0200
TZNAME:CEST
DTSTART:20210328T010000
END:DAYLIGHT
BEGIN:STANDARD
TZOFFSETFROM:+0200
TZOFFSETTO:+0100
TZNAME:CET
DTSTART:20211031T010000
END:STANDARD
END:VTIMEZONE
BEGIN:VEVENT
DTSTART;TZID=Europe/Warsaw:20211008T190000
DTEND;TZID=Europe/Warsaw:20211008T233000
DTSTAMP:20260424T013251
CREATED:20211006T073107Z
LAST-MODIFIED:20231113T125243Z
UID:12898-1633719600-1633735800@strefamma.pl
SUMMARY:Babilon MMA 25: Kacprzak vs Gutowski
DESCRIPTION:W najbliższy piątek w Łomży odbędzie się gala Babilon MMA z numerem 25. W walce wieczoru Piotr Kacprzak zmierzy się z Krzysztofem Gutowskim.   \nWalka wieczoru:\n65.8 kg: Piotr Kacprzak (5-3) vs. Krzysztof Gutowski (8-1) \nPozostałe:\nCW 68 kg: Damian Zorczykowski (7-5) vs. Jose Sanchez (11-1)\n83.9 kg: Adam Łaguna (5-1) vs. Piotr Kalenik (8-6)\n65.8 kg: Karol Kutyła (5-1) vs. Hubert Lotta (2-2)\nCW 73 kg: Damian Zuba (4-2) vs. Bartosz Zawadzki (4-2)\n83.9 kg: Piotr Arnista (0-1) vs. Jacek Brzezicki (0-1)\n77.1 kg: Krystian Cwalina (0-1) vs. Maciej Kryskiewicz (0-0)\n120 kg Semi-Pro:  Kamil Gawryjołek vs. Jacek Bartczak\n61.2 kg Semi-Pro: Dominika Steczkowska vs. Marta Rodzik
URL:https://strefamma.pl/event/babilon-mma-25-kacprzak-vs-gutowski/
LOCATION:Polska\, Polska
ATTACH;FMTTYPE=image/png:https://strefamma.pl/wp-content/uploads/2021/10/fightcard_1920x1080.png
END:VEVENT
END:VCALENDAR