BEGIN:VCALENDAR
VERSION:2.0
PRODID:-//StrefaMMA.pl - Portal sportów walki - ECPv5.16.3.1//NONSGML v1.0//EN
CALSCALE:GREGORIAN
METHOD:PUBLISH
X-ORIGINAL-URL:https://strefamma.pl
X-WR-CALDESC:Wydarzenia dla StrefaMMA.pl - Portal sportów walki
REFRESH-INTERVAL;VALUE=DURATION:PT1H
X-Robots-Tag:noindex
X-PUBLISHED-TTL:PT1H
BEGIN:VTIMEZONE
TZID:Europe/Warsaw
BEGIN:DAYLIGHT
TZOFFSETFROM:+0100
TZOFFSETTO:+0200
TZNAME:CEST
DTSTART:20210328T010000
END:DAYLIGHT
BEGIN:STANDARD
TZOFFSETFROM:+0200
TZOFFSETTO:+0100
TZNAME:CET
DTSTART:20211031T010000
END:STANDARD
END:VTIMEZONE
BEGIN:VEVENT
DTSTART;TZID=Europe/Warsaw:20211002T193000
DTEND;TZID=Europe/Warsaw:20211002T233000
DTSTAMP:20260424T013333
CREATED:20210816T133741Z
LAST-MODIFIED:20231113T125212Z
UID:9388-1633203000-1633217400@strefamma.pl
SUMMARY:FAME MMA 11: Mańkowski vs. Parke
DESCRIPTION:Już na początku października odbędzie się FAME MMA 11.  W walce wieczoru na nowych zasadach street fight dirty boxing w małych rękawicach do MMA Borys Mańkowski zmierzy się z Normanem Parke. \nWalka wieczoru: \n\n\n\nBorys Mańkowski vs Norman „Stormin” Parke (street fight dirty boxing / 15 minut bez rund / rękawice do MMA) \nPozostałe: \nSylwester Wardęga vs. Danny Ferreri – walka bokserskaWojciech “Ojwojtek” Przeździecki vs. Marcin DubielMikołaj “Mixer” Magdziarz vs. Piotr “Popo” WęgrzynMaksym “Maksymalnie” Ziółkowski vs. Filip ZabielskiNorbert “Smolasty” Smoliński vs. Piotr “MiłyPan” KołaczyńskiFilip “Filipek” Marcinek vs. Amadeusz “Ferrari” RoślikArkadiusz Tańcula vs. Marcin MalczyńskiKaroliina “Way of Blonde” Brzuszczyńska vs. Patrycja WiejaKrystian “Krycha” Wilczak vs. Aleksandr “Sasha” MuzheikoPiotr “Szeli” Szeliga vs. Krzysztof “Wujaszek Fericze” Ferenc
URL:https://strefamma.pl/event/fame-mma-11-mankowski-vs-parke/
LOCATION:Polska\, Polska
ATTACH;FMTTYPE=image/jpeg:https://strefamma.pl/wp-content/uploads/2021/08/parke.jpg
END:VEVENT
END:VCALENDAR