BEGIN:VCALENDAR
VERSION:2.0
PRODID:-//StrefaMMA.pl - Portal sportów walki - ECPv5.16.3.1//NONSGML v1.0//EN
CALSCALE:GREGORIAN
METHOD:PUBLISH
X-ORIGINAL-URL:https://strefamma.pl
X-WR-CALDESC:Wydarzenia dla StrefaMMA.pl - Portal sportów walki
REFRESH-INTERVAL;VALUE=DURATION:PT1H
X-Robots-Tag:noindex
X-PUBLISHED-TTL:PT1H
BEGIN:VTIMEZONE
TZID:Europe/Warsaw
BEGIN:DAYLIGHT
TZOFFSETFROM:+0100
TZOFFSETTO:+0200
TZNAME:CEST
DTSTART:20210328T010000
END:DAYLIGHT
BEGIN:STANDARD
TZOFFSETFROM:+0200
TZOFFSETTO:+0100
TZNAME:CET
DTSTART:20211031T010000
END:STANDARD
END:VTIMEZONE
BEGIN:VEVENT
DTSTART;TZID=Europe/Warsaw:20210918T010000
DTEND;TZID=Europe/Warsaw:20210919T050000
DTSTAMP:20260424T013337
CREATED:20210913T181728Z
LAST-MODIFIED:20210913T181728Z
UID:11390-1631926800-1632027600@strefamma.pl
SUMMARY:Bellator 266: Davis vs. Romero
DESCRIPTION:Już w ten weekend odbędzie się Bellator 266. W walce wieczoru Phil Davis zmierzy się z Yoeleme Romero. Ponadto w co-main evencie Neiman Gracie zmierzy się z Markiem Lemmingerem. \nWalka wieczoru:\n205 lb: Phil Davis (22-6) vs. Yoel Romero (13-5) \nKarta główna:\n170 lb: Neiman Gracie (10-2) vs. Mark Lemminger (12-3)\n125 lb: Alejandra Lara (9-4) vs. DeAnna Bennett (10-7-1)\n155 lb: Georgi Karakhanyan (31-11-1) vs. Saul Rogers (14-4)\n205 lb: Christian Edwards (5-0) vs. Ben Parrish (4-1) \nKarta wstępna:\n205 lb: Grant Neal (6-0) vs. Alex Polizzi (8-1)\n185 lb: Khalid Murtazaliev (15-2) vs. Anthony Adams (8-2)\n175 lb: Abraham Vaesau (5-3) vs. Albert Gonzales (2-2)\n135 lb: Socrates Hernandez (0-0) vs. Pedro Juarez (0-0)\n135 lb: Bobby Seronio III (0-0) vs. Erin Hunter (0-0)\n170 lb: Rhalan Gracie (0-2) vs. Shane Keefe (1-0)\n160 lb: Eddie Abasolo (0-0) vs. Art Hernandez (4-5)\n125 lb: Edwin De Los Santos (0-0) vs. Jon Adams (0-1-1)\n130 lb: Jesse Delgado (0-0) vs. Joshua Dillon (1-1) \n 
URL:https://strefamma.pl/event/bellator-266-davis-vs-romero/
LOCATION:USA
ATTACH;FMTTYPE=image/jpeg:https://strefamma.pl/wp-content/uploads/2021/09/bellator.jpg
END:VEVENT
BEGIN:VEVENT
DTSTART;TZID=Europe/Warsaw:20210918T220000
DTEND;TZID=Europe/Warsaw:20210919T050000
DTSTAMP:20260424T013337
CREATED:20210913T163741Z
LAST-MODIFIED:20210913T163741Z
UID:11375-1632002400-1632027600@strefamma.pl
SUMMARY:UFC Vegas 37: Smith vs. Spann
DESCRIPTION:W najbliższy weekend odbędzie się UFC Vegas 37. W walce wieczoru Anthony Smith zawalczy z Ryanem Spannem. Na tej gali wystąpi znana polskiej publiczności Ariane Lipski\, która zmierzy się z Mandy Bohm. \nWalka wieczoru:\n205 lb: Anthony Smith (35-16) vs. Ryan Spann (19-6) \nKarta główna:\n205 lb: Ion Cutelaba (15-6-1) vs. Devin Clark (12-5)\n155 lb: Cameron VanCamp (15-5-1) vs. Nikolas Motta (12-3)\n125 lb: Ariane Lipski (13-7) vs. Mandy Bohm (7-0)\n155 lb: Christos Giagos (19-8) vs. Arman Tsarukyan (16-2)\n185 lb: Joaquin Buckley (12-4) vs. Antonio Arroyo (9-4) \nKarta wstępna:\n205 lb: Tafon Nchukwi (5-1) vs. Mike Rodriguez (11-6)\n135 lb: Pannie Kianzad (15-5) vs. Raquel Pennington (11-8)\n135 lb: Joseph Maness (13-1) vs. Tony Gravely (21-6)\n155 lb: Dakota Bush (8-3) vs. Zhu Rong (17-4)\n135 lb: Montel Jackson (10-2) vs. JP Buys (9-3)\n125 lb: Erin Blanchfield (6-1) vs. Sarah Alpar (9-5)\n170 lb: Impa Kasanganay (9-1) vs. Carlston Harris (16-4)\n135 lb: Gustavo Lopez (12-6) vs. Heili Alateng (14-8-1)\n125 lb: Emily Whitmire (4-4) vs. Hannah Goldy (5-2)
URL:https://strefamma.pl/event/ufc-vegas-37-smith-vs-spann/
LOCATION:USA
ATTACH;FMTTYPE=image/jpeg:https://strefamma.pl/wp-content/uploads/2021/09/a1.jpg
END:VEVENT
END:VCALENDAR