BEGIN:VCALENDAR
VERSION:2.0
PRODID:-//StrefaMMA.pl - Portal sportów walki - ECPv5.16.3.1//NONSGML v1.0//EN
CALSCALE:GREGORIAN
METHOD:PUBLISH
X-ORIGINAL-URL:https://strefamma.pl
X-WR-CALDESC:Wydarzenia dla StrefaMMA.pl - Portal sportów walki
REFRESH-INTERVAL;VALUE=DURATION:PT1H
X-Robots-Tag:noindex
X-PUBLISHED-TTL:PT1H
BEGIN:VTIMEZONE
TZID:Europe/Warsaw
BEGIN:DAYLIGHT
TZOFFSETFROM:+0100
TZOFFSETTO:+0200
TZNAME:CEST
DTSTART:20210328T010000
END:DAYLIGHT
BEGIN:STANDARD
TZOFFSETFROM:+0200
TZOFFSETTO:+0100
TZNAME:CET
DTSTART:20211031T010000
END:STANDARD
END:VTIMEZONE
BEGIN:VEVENT
DTSTART;TZID=Europe/Warsaw:20210821T223000
DTEND;TZID=Europe/Warsaw:20210822T060000
DTSTAMP:20260424T130717
CREATED:20210806T101853Z
LAST-MODIFIED:20210816T160327Z
UID:8577-1629585000-1629612000@strefamma.pl
SUMMARY:UFC Vegas 34: Cannonier vs. Gastelum
DESCRIPTION:Już 21 sierpnia w Las Vegas odbędzie się gala UFC Vegas 34. W walce wieczoru Jared Cannonier zmierzy się z Kelvinem Gastelumem. \nWalka wieczoru:\n185 lb: Jared Cannonier (13-5) vs. Kelvin Gastelum (17-7) \nKarta główna:\n155 lb: Clay Guida (36-20) vs. Mark Madsen (10-0)\n265 lb: Parker Porter (11-6) vs. Chase Sherman (15-7)\n155 lb: Vinc Pichel (13-2) vs. Austin Hubbard (13-5)\n125 lb: Alexandre Pantoja (23-5) vs. Brandon Royval (12-5)\n135 lb: Mana Martinez (8-2) vs. Trevin Jones (13-6) \nKarta wstępna:\n145 lb: Austin Lingo (8-1) vs. Luis Saldana (15-6)\n135 lb: Brian Kelleher (22-12) vs. Domingo Pilarte (8-2)\n135 lb: Bea Malecki (2-0) vs. Josiane Nunes (7-1)\n205 lb: William Knight (9-2) vs. Fabio Cherant (7-2)\n155 lb: Roosevelt Roberts (10-2) vs. Ignacio Bahamondes (11-4)\n170 lb: Sasha Palatnikov (6-3) vs. Ramiz Brahimaj (8-3)
URL:https://strefamma.pl/event/ufc-vegas-34-cannonier-vs-gastelum/
LOCATION:USA
ATTACH;FMTTYPE=image/jpeg:https://strefamma.pl/wp-content/uploads/2021/08/a.jpeg
END:VEVENT
END:VCALENDAR