BEGIN:VCALENDAR
VERSION:2.0
PRODID:-//StrefaMMA.pl - Portal sportów walki - ECPv5.16.3.1//NONSGML v1.0//EN
CALSCALE:GREGORIAN
METHOD:PUBLISH
X-ORIGINAL-URL:https://strefamma.pl
X-WR-CALDESC:Wydarzenia dla StrefaMMA.pl - Portal sportów walki
REFRESH-INTERVAL;VALUE=DURATION:PT1H
X-Robots-Tag:noindex
X-PUBLISHED-TTL:PT1H
BEGIN:VTIMEZONE
TZID:Europe/Warsaw
BEGIN:DAYLIGHT
TZOFFSETFROM:+0100
TZOFFSETTO:+0200
TZNAME:CEST
DTSTART:20210328T010000
END:DAYLIGHT
BEGIN:STANDARD
TZOFFSETFROM:+0200
TZOFFSETTO:+0100
TZNAME:CET
DTSTART:20211031T010000
END:STANDARD
END:VTIMEZONE
BEGIN:VEVENT
DTSTART;TZID=Europe/Warsaw:20210613T000000
DTEND;TZID=Europe/Warsaw:20210613T060000
DTSTAMP:20260424T173650
CREATED:20210608T211754Z
LAST-MODIFIED:20231113T122559Z
UID:4814-1623542400-1623564000@strefamma.pl
SUMMARY:UFC 263: Adesanya vs. Vettori 2
DESCRIPTION:W najbliższy weekend odbędzie się UFC 263\, gdzie zobaczymy wiele interesujących pojedynków. W walce wieczoru dojdzie do rewanżowego boju pomiędzy mistrzem wagi średniej Israelem Adesanyą a Marvinem Vettorim. \nWalka wieczoru:\n185 lb: Israel Adesanya (20-1) vs. Marvin Vettori (17-3-1) – o pas wagi mistrzowski \nKarta główna\n125 lb: Deiveson Figueiredo (20-1-1) vs. Brandon Moreno (18-5-2) – o pas mistrzowski\n170 lb: Leon Edwards (18-3) vs. Nate Diaz (20-12)\n170 lb: Demian Maia (28-10) vs. Belal Muhammad (18-3)\n205 lb: Paul Craig (14-4-1) vs. Jamahal Hill (8-0) \nKarta wstępna:\n155 lb: Drew Dober (23-10) vs. Brad Riddell (9-1)\n205 lb: Eryk Anders (13-5) vs. Darren Stewart (12-6\, 2)\n125 lb: Lauren Murphy (14-4) vs. Joanne Calderwood (15-5)\n145 lb: Movsar Evloev (14-0) vs. Hakeem Dawodu (12-1-1) \nKarta przedwstępna:\n135 lb: Pannie Kianzad (14-5) vs. Alexis Davis (20-10)\n155 lb: Frank Camacho (22-9) vs. Matt Frevola (8-2-1)\n145 lb: Chase Hooper (10-1-1) vs. Steven Peterson (18-9)\n155 lb: Fares Ziam (11-3) vs. Luigi Vendramini (9-1)\n265 lb: Carlos Felipe (10-1) vs. Jake Collier (12-5) \n 
URL:https://strefamma.pl/event/ufc-263-adesanya-vs-vettori-2/
LOCATION:Glendale
ATTACH;FMTTYPE=image/jpeg:https://strefamma.pl/wp-content/uploads/2021/06/UFC-263-Hero.jpg
END:VEVENT
END:VCALENDAR