BEGIN:VCALENDAR
VERSION:2.0
PRODID:-//StrefaMMA.pl - Portal sportów walki - ECPv5.16.3.1//NONSGML v1.0//EN
CALSCALE:GREGORIAN
METHOD:PUBLISH
X-ORIGINAL-URL:https://strefamma.pl
X-WR-CALDESC:Wydarzenia dla StrefaMMA.pl - Portal sportów walki
REFRESH-INTERVAL;VALUE=DURATION:PT1H
X-Robots-Tag:noindex
X-PUBLISHED-TTL:PT1H
BEGIN:VTIMEZONE
TZID:Europe/Warsaw
BEGIN:DAYLIGHT
TZOFFSETFROM:+0100
TZOFFSETTO:+0200
TZNAME:CEST
DTSTART:20210328T010000
END:DAYLIGHT
BEGIN:STANDARD
TZOFFSETFROM:+0200
TZOFFSETTO:+0100
TZNAME:CET
DTSTART:20211031T010000
END:STANDARD
END:VTIMEZONE
BEGIN:VEVENT
DTSTART;TZID=Europe/Warsaw:20210610T233000
DTEND;TZID=Europe/Warsaw:20210611T233000
DTSTAMP:20260424T173650
CREATED:20210608T211549Z
LAST-MODIFIED:20231113T122542Z
UID:4811-1623367800-1623454200@strefamma.pl
SUMMARY:PFL 2021 #4  z udziałem Marcina Helda
DESCRIPTION:Już w tym tygodniu odbędzie się gala PFL 2021 #4. W walce wieczoru wystąpi jedna z najlepszych pięściarek na świecie Claressa Shields\, która w debiucie zmierzy się z Brittney Elkin. Na tej gali wystąpi nasz rodak Marcin Held\, który w drugiej walce w turnieju PFL zawalczy z byłym zawodnikiem UFC Olivierem Aubinem-Mercierem. \nWalka wieczoru:\n155 lb: Claressa Shields (0-0) vs. Brittney Elkin (3-6) \nKarta główna:\n155 lb: Clay Collard (19-8) vs. Joilton Lutterbach (34-9)\n145 lb: Bubba Jenkins (15-4) vs. Bobby Moffett (13-5)\n145 lb: Brendan Loughnane (20-3) vs. Tyler Diamond (12-1) \nKarta wstępna:\n155 lb: Natan Schulte (20-4-1) vs. Alex Martinez (8-0)\n155 lb: Marcin Held (27-7) vs. Olivier Aubin-Mercier (11-5)\n155 lb: Akhmed Aliev (20-6) vs. Loik Radzhabov (13-3-1)\n145 lb: Jesse Stirn (11-4) vs. Sheymon Moraes (11-5)\n145 lb: Chris Wade (18-6) vs. Arman Ospanov (11-3)
URL:https://strefamma.pl/event/pfl-2021-4-z-udzialem-marcina-helda/
LOCATION:USA
ATTACH;FMTTYPE=image/jpeg:https://strefamma.pl/wp-content/uploads/2021/06/pfl.jpg
END:VEVENT
END:VCALENDAR