BEGIN:VCALENDAR
VERSION:2.0
PRODID:-//StrefaMMA.pl - Portal sportów walki - ECPv5.16.3.1//NONSGML v1.0//EN
CALSCALE:GREGORIAN
METHOD:PUBLISH
X-WR-CALNAME:StrefaMMA.pl - Portal sportów walki
X-ORIGINAL-URL:https://strefamma.pl
X-WR-CALDESC:Wydarzenia dla StrefaMMA.pl - Portal sportów walki
REFRESH-INTERVAL;VALUE=DURATION:PT1H
X-Robots-Tag:noindex
X-PUBLISHED-TTL:PT1H
BEGIN:VTIMEZONE
TZID:Europe/Warsaw
BEGIN:DAYLIGHT
TZOFFSETFROM:+0100
TZOFFSETTO:+0200
TZNAME:CEST
DTSTART:20210328T010000
END:DAYLIGHT
BEGIN:STANDARD
TZOFFSETFROM:+0200
TZOFFSETTO:+0100
TZNAME:CET
DTSTART:20211031T010000
END:STANDARD
END:VTIMEZONE
BEGIN:VEVENT
DTSTART;VALUE=DATE:20210521
DTEND;VALUE=DATE:20210522
DTSTAMP:20260425T041037
CREATED:20210514T202846Z
LAST-MODIFIED:20230929T113812Z
UID:3173-1621555200-1621641599@strefamma.pl
SUMMARY:Bellator 259: Cyborg vs. Smith 2
DESCRIPTION:21 maja w nocy z czwartku na piątek odbędzie się Bellator 259. Na tym wydarzeniu Cris Cyborg stoczy trzeci pojedynek pod szyldem Bellatora. W rewanżowym boju spotka się z Leslie Smith. W pierwszym boju na UFC 198 przez TKO zwyciężyła Brazylijka. \nWalka wieczoru:\n145 lb: Cris Cyborg (25-2) vs. Leslie Smith (12-8\, 1 NC) \nKarta główna:\n135 lb: Darion Caldwell (15-4) vs. Leandro Higo (20-5)\n205 lb: Christian Edwards (4-0) vs. Ben Parrish (4-1)\n170 lb: Austin Vanderford (10-0) vs. Fabian Edwards (9-1)\n135 lb: Jaleel Willis (14-2) vs. Maycon Mendoca (11-4) \nKarta wstępna:\n125 lb: Valerie Loureda 3-0 vs. Hannah Guy (2-1)\n155 lb: Alexander Shabliy (19-3) vs. Alfie Davis (14-3)\n155 lb: Saad Awad (23-13) vs. Nate Andrews (16-3)\n145 lb: Leah McCourt (4-1) vs. Janay Harding (6-5)\n265 lb: Davion Franklin (2-0) vs. Tyler King ( )\n155 lb: Aviv Gozali (5-0)vs. Sean Felton (5-2)\n205 lb: Grant Neal (5-0) vs. Tyree Fortune (5-0)\n125 lb: Sumiko Inaba (1-0) vs. Kristina Katsikis (1-1)
URL:https://strefamma.pl/event/bellator-259-cyborg-vs-smith-2/
LOCATION:USA
ATTACH;FMTTYPE=image/jpeg:https://strefamma.pl/wp-content/uploads/2021/05/CyborgSmith2-696x392-1.jpg
END:VEVENT
END:VCALENDAR