BEGIN:VCALENDAR
VERSION:2.0
PRODID:-//StrefaMMA.pl - Portal sportów walki - ECPv5.16.3.1//NONSGML v1.0//EN
CALSCALE:GREGORIAN
METHOD:PUBLISH
X-WR-CALNAME:StrefaMMA.pl - Portal sportów walki
X-ORIGINAL-URL:https://strefamma.pl
X-WR-CALDESC:Wydarzenia dla StrefaMMA.pl - Portal sportów walki
REFRESH-INTERVAL;VALUE=DURATION:PT1H
X-Robots-Tag:noindex
X-PUBLISHED-TTL:PT1H
BEGIN:VTIMEZONE
TZID:Europe/Warsaw
BEGIN:DAYLIGHT
TZOFFSETFROM:+0100
TZOFFSETTO:+0200
TZNAME:CEST
DTSTART:20210328T010000
END:DAYLIGHT
BEGIN:STANDARD
TZOFFSETFROM:+0200
TZOFFSETTO:+0100
TZNAME:CET
DTSTART:20211031T010000
END:STANDARD
END:VTIMEZONE
BEGIN:VEVENT
DTSTART;TZID=Europe/Warsaw:20210410T180000
DTEND;TZID=Europe/Warsaw:20210411T003000
DTSTAMP:20260425T041040
CREATED:20210407T165507Z
LAST-MODIFIED:20231113T121901Z
UID:2088-1618077600-1618101000@strefamma.pl
SUMMARY:UFC Fight Night: Gamrot vs Holtzman
DESCRIPTION:Już 10 kwietnia – w najbliższą sobotę – odbędzie się gala UFC Vegas 23. Podczas tego wydarzenia będziemy mieli okazję obejrzeć starcie Mateusza Gamrota (MMA 17-1) ze Scottem Holtzmanem (MMA 14-4). W walce wieczoru dojdzie do pojedynku Marvina Vettoriego (MMA 16-3-1) z Kevinem Hollandem (MMA 16-3). Polscy fani będą mieli okazję zobaczyć całą galę zupełnie za darmo. \nGdzie oglądać UFC z udziałem Gamrota?\nPierwsza walka Gamrota w UFC zakończyła się niejednogłośną decyzją sędziów na korzyść oponenta Polaka – Gurama Kutateladze. Zdaniem wielu\, decyzja na konto Gruzina była mocno kontrowersyjna\, ale walka była na tyle bliska\, że o ostatecznym wyniku decydowały detale. Już w sobotę na gali w Las Vegas\, Gamer będzie miał okazję dopisać pierwsze zwycięstwo w szeregach UFC. \nW walce wieczoru zobaczymy ciekawie zapowiadające się starcie w kategorii średniej. Pierwotnie Vettori miał skrzyżować rękawice z Darrenem Tillem (MMA 18-3-1)\, jednak UFC szybko znalazło zastępstwo w postaci Hollanda. \n\nKiedy walka Mateusz Gamrot vs Scott Holtzman?\nData: 10 kwietnia (sobota)\nLokalizacja: Las Vegas\, USA\nWydarzenie: UFC Vegas 23 \nGdzie oglądać walkę Mateusz Gamrot vs Scott Holtzman? – Transmisja\, stream live\, godzina walki
URL:https://strefamma.pl/event/ufc-fight-night-gamrot-vs-holtzman/
LOCATION:Las Vegas\, UFC Apex
END:VEVENT
END:VCALENDAR